BEGIN:VCALENDAR
VERSION:2.0
PRODID:-//eventon.com NONSGML v1.0//EN
CALSCALE:GREGORIAN
METHOD:PUBLISH
BEGIN:VEVENT
UID:69e9d990e28cb
DTSTAMP:20260423T083424Z
DTSTART:20260604T150000Z
DTEND:20260604T200000Z
LOCATION:Kranhausgarten Berliner Straße 18\,  25336 Elmshorn
SUMMARY:Afterwork Special
DESCRIPTION:Infos folgen in Kürze.\nhttps://www.apollo-kultur.de/events/af
 terwork-special-2026-06-04/
URL:https://www.apollo-kultur.de/events/afterwork-special-2026-06-04/
END:VEVENT
END:VCALENDAR